BEGIN:VCALENDAR
VERSION:2.0
PRODID:-//WBEC NY DMV - ECPv6.15.18//NONSGML v1.0//EN
CALSCALE:GREGORIAN
METHOD:PUBLISH
X-ORIGINAL-URL:https://wbecnydmv.org/es
X-WR-CALDESC:Eventos para WBEC NY DMV
REFRESH-INTERVAL;VALUE=DURATION:PT1H
X-Robots-Tag:noindex
X-PUBLISHED-TTL:PT1H
BEGIN:VTIMEZONE
TZID:America/New_York
BEGIN:DAYLIGHT
TZOFFSETFROM:-0500
TZOFFSETTO:-0400
TZNAME:EDT
DTSTART:20230312T070000
END:DAYLIGHT
BEGIN:STANDARD
TZOFFSETFROM:-0400
TZOFFSETTO:-0500
TZNAME:EST
DTSTART:20231105T060000
END:STANDARD
BEGIN:DAYLIGHT
TZOFFSETFROM:-0500
TZOFFSETTO:-0400
TZNAME:EDT
DTSTART:20240310T070000
END:DAYLIGHT
BEGIN:STANDARD
TZOFFSETFROM:-0400
TZOFFSETTO:-0500
TZNAME:EST
DTSTART:20241103T060000
END:STANDARD
BEGIN:DAYLIGHT
TZOFFSETFROM:-0500
TZOFFSETTO:-0400
TZNAME:EDT
DTSTART:20250309T070000
END:DAYLIGHT
BEGIN:STANDARD
TZOFFSETFROM:-0400
TZOFFSETTO:-0500
TZNAME:EST
DTSTART:20251102T060000
END:STANDARD
END:VTIMEZONE
BEGIN:VEVENT
DTSTART;TZID=America/New_York:20240528T120000
DTEND;TZID=America/New_York:20240528T130000
DTSTAMP:20260422T182849
CREATED:20240506T155652Z
LAST-MODIFIED:20240506T160236Z
UID:10001075-1716897600-1716901200@wbecnydmv.org
SUMMARY:Lunch with the Experts: Managing Business Credit presented by Wells Fargo
DESCRIPTION:  \nLunch with the Experts: Managing Business Credit presented by Wells Fargo \nTuesday\, May 28th\, 2024\n12:00pm–1:00pm ET \n   \nJoin us for an enlightening session with Mame Mbaye\, Senior Assistant Vice President and Small Business Relationship Manager at Wells Fargo\, and delve into the topic of Managing Business Credit. Gain valuable insights on how credit and lending operate\, explore the diverse possibilities of credit financing throughout the credit lifecycle\, and discover a myriad of traditional and nontraditional credit opportunities available to business owners. \nAdditionally\, Trung Tieu\, Supplier Diversity Program Manager at Wells Fargo\, will also briefly share information about the Wells Fargo Supplier Diversity program and how to connect. \nThis presentation is your gateway to understanding and optimizing business credit for growth and success.\n \n \nMame Mbaye\, Sr. AVP – Small Business Relationship Manager (LO)\, Regional Business Relationship Management\, Wells Fargo \nAs the Senior Assistant Vice President and Small Business Relationship Manager in the DMV area for 12 years\, Mame Mbaye focuses on building relationships with local business owners and providing tailored financial strategies. Alongside her team\, she assists small businesses in maintaining growth and controlling expenses by offering guidance on cash management\, finance\, credit\, and risk management. \nMame also pursued studies at Temple University in Japan\, expanding her global outlook. With a strong background in business lending\, she specializes in SBA loans\, business acquisition financing\, commercial real estate lending\, practice finance for medical professionals\, and business lines of credit. \n \nTrung Tieu\, Supplier Diversity Program Manager\, Wells Fargo \nTrung Tieu is the 2023 Supplier Diversity Advocate of the Year\, awarded by NYNJ Minority Supplier Development Council. Joining Wells Fargo in 2022 as a Supplier Diversity Manager\, Trung has been instrumental in aligning diverse suppliers with sourcing categories and advancing supplier development programs. His previous role at PepsiCo involved promoting the utilization of diverse-owned businesses. Trung’s career began in Quaker Foods & Snacks\, focusing on innovation and product development. \nAn active board member of NYNJ MSDC and contributor to diversity and inclusion initiatives\, Trung holds a B.A. and M.A. in Communication from the University of Wisconsin-Milwaukee\, with research on identity construction\, and is a UCLA Anderson School of Business LGBT Leadership Institute graduate. \n\nClick to register!
URL:https://wbecnydmv.org/es/event/lunch-with-the-experts-managing-business-credit-presented-by-wells-fargo/
CATEGORIES:Lunch with the Experts,WBEC Greater DMV Events
END:VEVENT
END:VCALENDAR