BEGIN:VCALENDAR
VERSION:2.0
PRODID:-//WBEC NY DMV - ECPv6.15.18//NONSGML v1.0//EN
CALSCALE:GREGORIAN
METHOD:PUBLISH
X-WR-CALNAME:WBEC NY DMV
X-ORIGINAL-URL:https://wbecnydmv.org/es
X-WR-CALDESC:Eventos para WBEC NY DMV
REFRESH-INTERVAL;VALUE=DURATION:PT1H
X-Robots-Tag:noindex
X-PUBLISHED-TTL:PT1H
BEGIN:VTIMEZONE
TZID:America/New_York
BEGIN:DAYLIGHT
TZOFFSETFROM:-0500
TZOFFSETTO:-0400
TZNAME:EDT
DTSTART:20230312T070000
END:DAYLIGHT
BEGIN:STANDARD
TZOFFSETFROM:-0400
TZOFFSETTO:-0500
TZNAME:EST
DTSTART:20231105T060000
END:STANDARD
BEGIN:DAYLIGHT
TZOFFSETFROM:-0500
TZOFFSETTO:-0400
TZNAME:EDT
DTSTART:20240310T070000
END:DAYLIGHT
BEGIN:STANDARD
TZOFFSETFROM:-0400
TZOFFSETTO:-0500
TZNAME:EST
DTSTART:20241103T060000
END:STANDARD
BEGIN:DAYLIGHT
TZOFFSETFROM:-0500
TZOFFSETTO:-0400
TZNAME:EDT
DTSTART:20250309T070000
END:DAYLIGHT
BEGIN:STANDARD
TZOFFSETFROM:-0400
TZOFFSETTO:-0500
TZNAME:EST
DTSTART:20251102T060000
END:STANDARD
END:VTIMEZONE
BEGIN:VEVENT
DTSTART;TZID=America/New_York:20240408T140000
DTEND;TZID=America/New_York:20240408T140000
DTSTAMP:20260422T223405
CREATED:20240403T173450Z
LAST-MODIFIED:20240404T202650Z
UID:10001062-1712584800-1712584800@wbecnydmv.org
SUMMARY:ChallengeHER - What’s the Latest on CMMC?
DESCRIPTION:Monday\, April 8th\, 2024 \n2:00pm ET | 1:00pm CT | 11:00am PT \nThe comment period for the Cybersecurity Maturity Model Certification (CMMC) proposed rule closed in February. Are you prepared for what comes next? Join us for our next ChallengeHER® webinar tailored for business owners seeking to enhance their cybersecurity practices and government contracting opportunities! Discover the latest updates on CMMC and when it will show up in contracts. \nOur Speakers\, Nichole Atallah and Daniel Figuenick\, will provide invaluable insights and practical advice to help you navigate the complexities of CMMC and bolster your cybersecurity posture. Don’t miss this opportunity to stay ahead in the ever-evolving cybersecurity landscape and secure your business’s future in government contracting. Register now to secure your spot and gain a competitive edge in the government contracting arena! \nClick here for more information!
URL:https://wbecnydmv.org/es/event/challengeher-whats-the-latest-on-cmmc/
CATEGORIES:Partner Event
END:VEVENT
END:VCALENDAR