BEGIN:VCALENDAR
VERSION:2.0
PRODID:-//WBEC NY DMV - ECPv6.15.18//NONSGML v1.0//EN
CALSCALE:GREGORIAN
METHOD:PUBLISH
X-ORIGINAL-URL:https://wbecnydmv.org/es
X-WR-CALDESC:Eventos para WBEC NY DMV
REFRESH-INTERVAL;VALUE=DURATION:PT1H
X-Robots-Tag:noindex
X-PUBLISHED-TTL:PT1H
BEGIN:VTIMEZONE
TZID:America/New_York
BEGIN:DAYLIGHT
TZOFFSETFROM:-0500
TZOFFSETTO:-0400
TZNAME:EDT
DTSTART:20230312T070000
END:DAYLIGHT
BEGIN:STANDARD
TZOFFSETFROM:-0400
TZOFFSETTO:-0500
TZNAME:EST
DTSTART:20231105T060000
END:STANDARD
BEGIN:DAYLIGHT
TZOFFSETFROM:-0500
TZOFFSETTO:-0400
TZNAME:EDT
DTSTART:20240310T070000
END:DAYLIGHT
BEGIN:STANDARD
TZOFFSETFROM:-0400
TZOFFSETTO:-0500
TZNAME:EST
DTSTART:20241103T060000
END:STANDARD
BEGIN:DAYLIGHT
TZOFFSETFROM:-0500
TZOFFSETTO:-0400
TZNAME:EDT
DTSTART:20250309T070000
END:DAYLIGHT
BEGIN:STANDARD
TZOFFSETFROM:-0400
TZOFFSETTO:-0500
TZNAME:EST
DTSTART:20251102T060000
END:STANDARD
END:VTIMEZONE
BEGIN:VEVENT
DTSTART;TZID=America/New_York:20240307T090000
DTEND;TZID=America/New_York:20240307T170000
DTSTAMP:20260423T030347
CREATED:20240122T215641Z
LAST-MODIFIED:20240229T203240Z
UID:10000996-1709802000-1709830800@wbecnydmv.org
SUMMARY:WBEC Metro NY SAGE Advice Day 2
DESCRIPTION:WBEC Metro NY SAGE Advice Day 2\n \n  \nSAGE Advice is a collaborative partnership between Capital One and WBEC Greater DMV and Metro NY\, established to develop and enable small business owners to grow through customized sessions delivered by successful women business owners and Capital One associates.\nThrough six\, two-day in-person and virtual sessions held over six months\, participants will dive deep into their business\, their strategies\, and their goals.\nApplications for the 2024 cohort of SAGE Advice are closed. For more information\, and to join the waitlist for 2025\,\nplease visit our website: wbecnydmv.org/programs/sage-advice
URL:https://wbecnydmv.org/es/event/wbec-metro-ny-sage-advice-day-2-2/
CATEGORIES:WBEC Metro NY Events
END:VEVENT
BEGIN:VEVENT
DTSTART;TZID=America/New_York:20240307T130000
DTEND;TZID=America/New_York:20240307T140000
DTSTAMP:20260423T030347
CREATED:20231221T175029Z
LAST-MODIFIED:20240110T210259Z
UID:10000957-1709816400-1709820000@wbecnydmv.org
SUMMARY:Why and How to Get Certified
DESCRIPTION:Why and How to Get Certified \nMarch 7th\, 2024 | 1pm to 2pm EST | Virtual Session\n  \nIf you’re a 51% women-owned or operated company\, you’re just a few steps away from becoming a WBENC-Certified women’s business enterprise (WBE)! \nAt WBEC Metro NY & Greater DMV\, fueling local economic growth through the empowerment of women business owners is our primary mission. We provide WBENC certification—the gold standard in diversity certification—at the regional level and serve as an advocate for certified women-owned businesses by providing our WBEs with resources\, programming\, network opportunities\, and recognition. \nDo you want access to supplier diversity and procurement opportunities\, networking events with like-minded women entrepreneurs\, leadership development programs\, and exclusive resources to grow and scale your business? \nJoin us for a 1-hour webinar and learn why the benefits of Certification go far beyond a Certification seal and the steps you can take to start your Certification process right away. \nIn this session\, you will gain a comprehensive understanding of WBENC Certification\, including its benefits\, eligibility criteria\, the application process\, and local opportunities within your region and the larger ecosystem. \nYou’ll also have the opportunity to address your specific questions with our WBEC Metro NY and Greater DMV staff. \n  \nReserve your spot today! \nRegister Here:\nhttps://us02web.zoom.us/meeting/register/tZ0ldOmupjopHtLrXcIlhk3N_hd6YNynAJFU#/registration\nThe Women’s Business Enterprise National Council’s (WBENC) mission is to fuel economic growth globally by identifying\, certifying\, and facilitating the development of women-owned businesses. They work to accomplish this by focusing on their CORE platform — Certification\, Opportunities\, Resources\, and Engagement.
URL:https://wbecnydmv.org/es/event/why-and-how-to-get-certified-3/
CATEGORIES:WBEC Metro NY and Greater DMV Events
END:VEVENT
END:VCALENDAR