BEGIN:VCALENDAR
VERSION:2.0
PRODID:-//WBEC NY DMV - ECPv6.15.18//NONSGML v1.0//EN
CALSCALE:GREGORIAN
METHOD:PUBLISH
X-ORIGINAL-URL:https://wbecnydmv.org/es
X-WR-CALDESC:Eventos para WBEC NY DMV
REFRESH-INTERVAL;VALUE=DURATION:PT1H
X-Robots-Tag:noindex
X-PUBLISHED-TTL:PT1H
BEGIN:VTIMEZONE
TZID:America/New_York
BEGIN:DAYLIGHT
TZOFFSETFROM:-0500
TZOFFSETTO:-0400
TZNAME:EDT
DTSTART:20220313T070000
END:DAYLIGHT
BEGIN:STANDARD
TZOFFSETFROM:-0400
TZOFFSETTO:-0500
TZNAME:EST
DTSTART:20221106T060000
END:STANDARD
BEGIN:DAYLIGHT
TZOFFSETFROM:-0500
TZOFFSETTO:-0400
TZNAME:EDT
DTSTART:20230312T070000
END:DAYLIGHT
BEGIN:STANDARD
TZOFFSETFROM:-0400
TZOFFSETTO:-0500
TZNAME:EST
DTSTART:20231105T060000
END:STANDARD
BEGIN:DAYLIGHT
TZOFFSETFROM:-0500
TZOFFSETTO:-0400
TZNAME:EDT
DTSTART:20240310T070000
END:DAYLIGHT
BEGIN:STANDARD
TZOFFSETFROM:-0400
TZOFFSETTO:-0500
TZNAME:EST
DTSTART:20241103T060000
END:STANDARD
END:VTIMEZONE
BEGIN:VEVENT
DTSTART;TZID=America/New_York:20230801T110000
DTEND;TZID=America/New_York:20230801T110000
DTSTAMP:20260425T112036
CREATED:20230728T170110Z
LAST-MODIFIED:20230728T170110Z
UID:10000914-1690887600-1690887600@wbecnydmv.org
SUMMARY:NJ Wind Port C1 Procurement Informational Session
DESCRIPTION:  \nAECOM Tishman is seeking qualified subcontractors and suppliers for upcoming construction opportunities in Lower Alloways Creek Township\, NJ. Attendees will learn of several near-term opportunities\, how to become pre-qualified to bid\, and about the bid process and projected timelines. \n  \nTHIS VIRTUAL EVENT IS FREE TO ATTEND!\n  \nOpportunities for Local\, Small and other XBE business that provide the following: \n\n\n\n\n\n\n\n·    Cast-In-Place Concrete \n·    Precast Structural Concrete \n·    Structural Welding \n·    Miscellaneous Metals \n·    Low-Voltage Electrical Conductors & Cables \n·    Grounding and Bonding for Electrical Systems \n·    Underground Electrical Conduit & Duct Bank\n\n\n\n\n\n\n\n\n·    Mass Excavation & Transport \n·    Ground Improvement – Continuous Modulus Columns \n·    Soil Erosion & Sediment Control \n·    Geosynthetic Stabilization \n·    Aggregate Paving \n·    Water Distribution Systems \n·    Stormwater Drainage & Filtration Systems\n\n\n\n\n\n\n\n  \nFollow the link below to register and receive your Zoom link to join the session. \nhttps://us02web.zoom.us/webinar/register/WN_XFRgVoPwRlKkf6cfIYCqnw#/registration \n 
URL:https://wbecnydmv.org/es/event/nj-wind-port-c1-procurement-informational-session/
CATEGORIES:WBEC Metro NY Events
END:VEVENT
BEGIN:VEVENT
DTSTART;TZID=America/New_York:20230801T120000
DTEND;TZID=America/New_York:20230801T130000
DTSTAMP:20260425T112036
CREATED:20230405T140431Z
LAST-MODIFIED:20230906T141035Z
UID:10000868-1690891200-1690894800@wbecnydmv.org
SUMMARY:I’m Certified\, Now What?
DESCRIPTION:“I’m Certified\, Now What?”\nMaximizing Your WBENC Certification\nIf you’re a newly certified WBE or would like to maximize your certification\, you don’t want to miss this!\nLearn more about the WBENC and WBEC Metro NY network and opportunities\nLearn how best to use and navigate WBENCLink2.0\nMeet the WBEC Metro NY Certification Team \nRegister in advance for this meeting:\nhttps://us02web.zoom.us/meeting/register/tZIsdeugqDwqGdc53D8ixnWEVlRiUSrFQjh3\nAfter registering\, you will receive a confirmation email containing information about joining the meeting.
URL:https://wbecnydmv.org/es/event/im-certified-now-what/2023-08-01/
CATEGORIES:WBEC Metro NY and Greater DMV Events
END:VEVENT
BEGIN:VEVENT
DTSTART;TZID=America/New_York:20230801T120000
DTEND;TZID=America/New_York:20230801T130000
DTSTAMP:20260425T112036
CREATED:20230705T174152Z
LAST-MODIFIED:20230706T131741Z
UID:10000911-1690891200-1690894800@wbecnydmv.org
SUMMARY:Lunch With the Experts: Financing Small Businesses
DESCRIPTION:Lunch with the Experts: Financing Small Businesses\nTuesday\, August 1\, 2023\n12:00pm–1:00pm ET\nHelp in levelling the field for BIPOC owned businesses in Maryland\, Washington DC\, and Virginia communities. Provide minority business owners a variety of solutions to give them peace of mind in running their business each day. Empower them to do what they do best\, and support accelerating the growth of their business and helping their communities thrive. \nSpecialties: Cash flow assistance\, Marketing\, Networking\, Funding\, New banking relationship and Consulting. \nRegister in advance for this meeting: \nhttps://us02web.zoom.us/meeting/register/tZEqcOCtrz0rGdDa3L9eqSw_u4uqr_7zXrX_ \nPresenter Info\n \nEmmyrich “Richie” Meneses Vicente\, Business Banking Relationship Manager and PNC Certified Minority Business Advocate \nIndustry Experience: He has worked for over 25 years in financial services. \nEducation: He earned a Bachelor’s Degree in Bachelor in Transportation Management; Certificate in Banking Operations; Consumer & Commercial Lending from Polytechnic University of the Philippines; American Institute of Banking & Maryland Banking School. \nAwards/Recognition: He has earned PNC Performance Award; Circle of Excellence & Market All-Star Awardee; Multi-Community Award Business Person of the Year. \nCommunity Involvement: Outside of work\, he has taken part in Rotary Club; Chambers: MCCC; GGCC\, AACC; IREAP; Fil Am Cancer Care; Family Alliance for Veterans Care; Story Tapestries. \nPersonal Information: I am an advocate for DE&I; I love connecting with business community and spending time with my loved ones.
URL:https://wbecnydmv.org/es/event/lunch-with-the-experts-financing-small-businesses/
CATEGORIES:Lunch with the Experts,WBEC Greater DMV Events
END:VEVENT
END:VCALENDAR