BEGIN:VCALENDAR
VERSION:2.0
PRODID:-//WBEC NY DMV - ECPv6.15.18//NONSGML v1.0//EN
CALSCALE:GREGORIAN
METHOD:PUBLISH
X-WR-CALNAME:WBEC NY DMV
X-ORIGINAL-URL:https://wbecnydmv.org/es
X-WR-CALDESC:Eventos para WBEC NY DMV
REFRESH-INTERVAL;VALUE=DURATION:PT1H
X-Robots-Tag:noindex
X-PUBLISHED-TTL:PT1H
BEGIN:VTIMEZONE
TZID:America/New_York
BEGIN:DAYLIGHT
TZOFFSETFROM:-0500
TZOFFSETTO:-0400
TZNAME:EDT
DTSTART:20220313T070000
END:DAYLIGHT
BEGIN:STANDARD
TZOFFSETFROM:-0400
TZOFFSETTO:-0500
TZNAME:EST
DTSTART:20221106T060000
END:STANDARD
BEGIN:DAYLIGHT
TZOFFSETFROM:-0500
TZOFFSETTO:-0400
TZNAME:EDT
DTSTART:20230312T070000
END:DAYLIGHT
BEGIN:STANDARD
TZOFFSETFROM:-0400
TZOFFSETTO:-0500
TZNAME:EST
DTSTART:20231105T060000
END:STANDARD
BEGIN:DAYLIGHT
TZOFFSETFROM:-0500
TZOFFSETTO:-0400
TZNAME:EDT
DTSTART:20240310T070000
END:DAYLIGHT
BEGIN:STANDARD
TZOFFSETFROM:-0400
TZOFFSETTO:-0500
TZNAME:EST
DTSTART:20241103T060000
END:STANDARD
END:VTIMEZONE
BEGIN:VEVENT
DTSTART;TZID=America/New_York:20230626T130000
DTEND;TZID=America/New_York:20230626T160000
DTSTAMP:20260425T140050
CREATED:20230530T194246Z
LAST-MODIFIED:20230530T194255Z
UID:10000895-1687784400-1687795200@wbecnydmv.org
SUMMARY:MatchMaker Madness
DESCRIPTION:Reminder: Registration Is Open!\nGreat connections are the foundation to business success and that is why Woman Impacting Public Policy is excited to host MatchMaker Madness on Monday\, June 26. \nMeet one-on-one in a private virtual environment with the buyers of government agencies and prime vendors for developing relationships\, understanding their purchasing process and identifying supply chain opportunities. \nRegister\nFree for all members (must be signed into WIPP profile) \nTo expedite your registration process\, please have your NAICS\, CAGE\, UEI and Keywords information ready. You must upload your generic Capability Statement to complete your registration. \nMatches will be made based on the buyers needs and then business owner requests. \nAll MatchMaker schedules and research information will be sent out on June 16th so you have time to prepare for your meeting. \nConfirmed Agencies and Primes:\n316th Wing – Joint Base Andrews\nAgriculture\, US Department of Farm Production and Conservation (FPAC)\nArmy\, US Department \nBureau of the Fiscal Service\nCoast Guard\, US\nConsolidated Nuclear Security (Y-12) \nEducation\, US Department \nEnvironmental Protection Agency\, U.S.\nEY \nFederal Aviation Agency\nGeneral Dynamics Information Technology\nInternal Revenue Service \nL3Harris – Integrated Mission Systems\nNational Renewable Energy Laboratory – NREL\nNaval Information Warfare Systems Command – NAVWAR \nNaval Nuclear Laboratory\nNewport News Shipbuilding\nOak Ridge National Laboratory \nUS Department of State\nUS Department of Treasury\nWashington Metro Area Transit Authority (WMATA)
URL:https://wbecnydmv.org/es/event/matchmaker-madness/
CATEGORIES:WBEC Greater DMV Events
END:VEVENT
END:VCALENDAR