BEGIN:VCALENDAR
VERSION:2.0
PRODID:-//WBEC NY DMV - ECPv6.15.18//NONSGML v1.0//EN
CALSCALE:GREGORIAN
METHOD:PUBLISH
X-ORIGINAL-URL:https://wbecnydmv.org/es
X-WR-CALDESC:Eventos para WBEC NY DMV
REFRESH-INTERVAL;VALUE=DURATION:PT1H
X-Robots-Tag:noindex
X-PUBLISHED-TTL:PT1H
BEGIN:VTIMEZONE
TZID:America/New_York
BEGIN:DAYLIGHT
TZOFFSETFROM:-0500
TZOFFSETTO:-0400
TZNAME:EDT
DTSTART:20220313T070000
END:DAYLIGHT
BEGIN:STANDARD
TZOFFSETFROM:-0400
TZOFFSETTO:-0500
TZNAME:EST
DTSTART:20221106T060000
END:STANDARD
BEGIN:DAYLIGHT
TZOFFSETFROM:-0500
TZOFFSETTO:-0400
TZNAME:EDT
DTSTART:20230312T070000
END:DAYLIGHT
BEGIN:STANDARD
TZOFFSETFROM:-0400
TZOFFSETTO:-0500
TZNAME:EST
DTSTART:20231105T060000
END:STANDARD
BEGIN:DAYLIGHT
TZOFFSETFROM:-0500
TZOFFSETTO:-0400
TZNAME:EDT
DTSTART:20240310T070000
END:DAYLIGHT
BEGIN:STANDARD
TZOFFSETFROM:-0400
TZOFFSETTO:-0500
TZNAME:EST
DTSTART:20241103T060000
END:STANDARD
END:VTIMEZONE
BEGIN:VEVENT
DTSTART;TZID=America/New_York:20230621T110000
DTEND;TZID=America/New_York:20230621T120000
DTSTAMP:20260425T195151
CREATED:20230614T151216Z
LAST-MODIFIED:20230616T185231Z
UID:10000899-1687345200-1687348800@wbecnydmv.org
SUMMARY:The WBENCPitch Experience — Greater DMV
DESCRIPTION:The WBENCPitch Experience\nWednesday\, June 21\, 2023\n11:00am-12:00pm ET\nWBEC Greater DMV is excited to partner again with WBENC to deliver the 2023 National WBENCPitch Momentum Competition\, powered by PepsiCo. The national second place winner will be awarded $20K and the grand prize winner will walk away with $50K. \nThe prize money is just one of the MANY benefits of participating in WBENCPitch – locally and nationally. The experience\, the relationships\, the judge’s feedback\, the visibility and the exposure for your business are TRULY PRICELESS. \nJoin us for a conversation with 2022 Greater DMV Pitch winners to hear about their 2022 pitch journey and experience. In this captivating discussion\, you’ll learn how to: \n\nPrepare yourself to participate in the WBENCPitch Competitions\nHone your business pitch and prepare to maximize your pitching opportunities\nUse actionable resources for pitching success and gain insights from fellow business owners.\n\n\n		Speakers:\n	\n				\n		Stacy Fritz 			\n				CEO\, Fit2Order \n				\n		Savannah Mitchell 			\n				Owner\, Sunday Morning Roasting Company \n				\n		David LeFebvre 			\n				Supplier Diversity Business Advisor\, Federal Reserve Bank of Richmond \n				\n		Rev. Dr. Renette Dallas\, ND 			\n				Creator\, TRUE POP Popcorn \n	Speaker Bios:\nDavid LeFebvre has extensive experience building strategic\, internal and external\, relationships to drive high impact. The common thread throughout David’s career is working with diverse businesses\, communities\, and education systems to drive success through inclusion. In David’s current role as Supplier Diversity Business Advisor\, he is responsible for designing\, managing\, and implementing the supplier diversity program for the Federal Reserve Bank of Richmond to promote involvement in the economic development and inclusion of diverse suppliers. \nRenette Dallas is a naturopathic doctor (N.D.)\, minister\, author\, lecturer\, certified fitness trainer\, raw food chef\, with expertise in nutritional and herbal detoxification and healing. She hosted live fitness and wellness radio and TV programs for seven years. She has degrees and twelve years professional experience in Architecture and Civil Engineering\, and a Veteran of the United States Air Force. Perhaps best known as the creator of the healthy organic snack product\, TRUE POP formerly\, Life by Dallas Popcorn\, Dr. Dallas believes health care reform starts with preventive holistic care education. Individuals leave her presentations motivated and inspired but more important\, empowered to adopt healthy lifestyles. \n\n		Moderator:\n	\n				\n		Sandra Eberhard 			\n				President & CEO\, WBEC Greater DMV \n	Click Here to Register\nhttps://us02web.zoom.us/meeting/register/tZwvcu6grzsuGNfJHGmlTjkTgs8bBxrlHHq7\nPitch submissions for the WBEC Greater DMV Live Virtual Pitch Competition on August 30th will begin on July 1st. Look out for the announcement! \nLearn more about this year’s competition at https://wbecnydmv.org/programs/wbenc-pitch-competition/
URL:https://wbecnydmv.org/es/event/the-wbencpitch-experience-greater-dmv/
CATEGORIES:WBEC Greater DMV Events
END:VEVENT
BEGIN:VEVENT
DTSTART;TZID=America/New_York:20230621T130000
DTEND;TZID=America/New_York:20230621T140000
DTSTAMP:20260425T195151
CREATED:20230614T150529Z
LAST-MODIFIED:20230616T185734Z
UID:10000898-1687352400-1687356000@wbecnydmv.org
SUMMARY:The WBENCPitch Experience — Metro NY
DESCRIPTION:The WBENCPitch Experience\nWednesday\, June 21\, 2023\n1:00pm-2:00pm ET\nWBEC Metro NY is excited to partner again with WBENC to deliver the 2023 National WBENCPitch Momentum Competition\, powered by PepsiCo. The national second place winner will be awarded $20K and the grand prize winner will walk away with $50K. \nThe prize money is just one of the MANY benefits of participating in WBENCPitch – locally and nationally. The experience\, the relationships\, the judge’s feedback\, the visibility and the exposure for your business are TRULY PRICELESS. \nJoin us for a conversation with 2022 Metro NY Pitch winners to hear about their 2022 pitch journey and experience. In this captivating discussion\, you’ll learn how to: \n\nPrepare yourself to participate in the WBENCPitch Competitions\nHone your business pitch and prepare to maximize your pitching opportunities\nUse actionable resources for pitching success and gain insights from fellow business owners.\n\n\n		Speakers:\n	\n				\n		Sheilisa McNeal 			\n				CEO Fria\, LLC DBA Fria Jewelry \n				\n		Lauren Berger 			\n				Co-Founder\, Get Real Foods \n				\n		Maria Marino 			\n				Co-Founder\, Panic Panties \n\n		Moderator:\n	\n				\n		Sandra Eberhard 			\n				President & CEO\, WBEC Metro NY \n	Click Here to Register\nhttps://us02web.zoom.us/meeting/register/tZ0pf-qgrz8pHtV2oLRZSx99G0jAtVk07lPs\nPitch submissions for the WBEC Metro NY Live Virtual Pitch Competition on August 30th will begin on July 1st. Look out for the announcement! \nLearn more about this year’s competition at https://wbecnydmv.org/programs/wbenc-pitch-competition/
URL:https://wbecnydmv.org/es/event/the-wbencpitch-experience-metro-ny/
CATEGORIES:WBEC Metro NY Events
END:VEVENT
END:VCALENDAR