BEGIN:VCALENDAR
VERSION:2.0
PRODID:-//WBEC NY DMV - ECPv6.15.18//NONSGML v1.0//EN
CALSCALE:GREGORIAN
METHOD:PUBLISH
X-WR-CALNAME:WBEC NY DMV
X-ORIGINAL-URL:https://wbecnydmv.org/es
X-WR-CALDESC:Eventos para WBEC NY DMV
REFRESH-INTERVAL;VALUE=DURATION:PT1H
X-Robots-Tag:noindex
X-PUBLISHED-TTL:PT1H
BEGIN:VTIMEZONE
TZID:America/New_York
BEGIN:DAYLIGHT
TZOFFSETFROM:-0500
TZOFFSETTO:-0400
TZNAME:EDT
DTSTART:20220313T070000
END:DAYLIGHT
BEGIN:STANDARD
TZOFFSETFROM:-0400
TZOFFSETTO:-0500
TZNAME:EST
DTSTART:20221106T060000
END:STANDARD
BEGIN:DAYLIGHT
TZOFFSETFROM:-0500
TZOFFSETTO:-0400
TZNAME:EDT
DTSTART:20230312T070000
END:DAYLIGHT
BEGIN:STANDARD
TZOFFSETFROM:-0400
TZOFFSETTO:-0500
TZNAME:EST
DTSTART:20231105T060000
END:STANDARD
BEGIN:DAYLIGHT
TZOFFSETFROM:-0500
TZOFFSETTO:-0400
TZNAME:EDT
DTSTART:20240310T070000
END:DAYLIGHT
BEGIN:STANDARD
TZOFFSETFROM:-0400
TZOFFSETTO:-0500
TZNAME:EST
DTSTART:20241103T060000
END:STANDARD
END:VTIMEZONE
BEGIN:VEVENT
DTSTART;TZID=America/New_York:20230516T120000
DTEND;TZID=America/New_York:20230516T120000
DTSTAMP:20260425T174307
CREATED:20230504T145625Z
LAST-MODIFIED:20230504T150455Z
UID:10000886-1684238400-1684238400@wbecnydmv.org
SUMMARY:Industry Panel: Professional Services
DESCRIPTION:Industry Panel: Professional Services\nTuesday\, May 16\, 2023\n12:00pm ET\nRegister in advance for this meeting: \nhttps://us02web.zoom.us/meeting/register/tZ0lde2pqj4iHNHEgb7Q5LTiDsgN9Cf6xyiR
URL:https://wbecnydmv.org/es/event/industry-panel-professional-services/
CATEGORIES:WBEC Metro NY and Greater DMV Events
END:VEVENT
END:VCALENDAR