BEGIN:VCALENDAR
VERSION:2.0
PRODID:-//WBEC NY DMV - ECPv6.15.18//NONSGML v1.0//EN
CALSCALE:GREGORIAN
METHOD:PUBLISH
X-ORIGINAL-URL:https://wbecnydmv.org/es
X-WR-CALDESC:Eventos para WBEC NY DMV
REFRESH-INTERVAL;VALUE=DURATION:PT1H
X-Robots-Tag:noindex
X-PUBLISHED-TTL:PT1H
BEGIN:VTIMEZONE
TZID:America/New_York
BEGIN:DAYLIGHT
TZOFFSETFROM:-0500
TZOFFSETTO:-0400
TZNAME:EDT
DTSTART:20220313T070000
END:DAYLIGHT
BEGIN:STANDARD
TZOFFSETFROM:-0400
TZOFFSETTO:-0500
TZNAME:EST
DTSTART:20221106T060000
END:STANDARD
BEGIN:DAYLIGHT
TZOFFSETFROM:-0500
TZOFFSETTO:-0400
TZNAME:EDT
DTSTART:20230312T070000
END:DAYLIGHT
BEGIN:STANDARD
TZOFFSETFROM:-0400
TZOFFSETTO:-0500
TZNAME:EST
DTSTART:20231105T060000
END:STANDARD
BEGIN:DAYLIGHT
TZOFFSETFROM:-0500
TZOFFSETTO:-0400
TZNAME:EDT
DTSTART:20240310T070000
END:DAYLIGHT
BEGIN:STANDARD
TZOFFSETFROM:-0400
TZOFFSETTO:-0500
TZNAME:EST
DTSTART:20241103T060000
END:STANDARD
END:VTIMEZONE
BEGIN:VEVENT
DTSTART;TZID=America/New_York:20230329T140000
DTEND;TZID=America/New_York:20230329T150000
DTSTAMP:20260425T194918
CREATED:20230227T145126Z
LAST-MODIFIED:20230227T145403Z
UID:10000845-1680098400-1680102000@wbecnydmv.org
SUMMARY:Why and How to Get WBENC Certified
DESCRIPTION:Join\n \nWhy and How to Get WBENC Certified\nWednesday\, March 29\, 2023\n2:00pm – 3:00pm ET\nLearn about the benefits of joining the largest national network of women owned businesses. Get an inside look at the WBENC certification process. \nThe Women’s Business Enterprise National Council’s (WBENC) mission is to fuel economic growth globally by identifying\, certifying\, and facilitating the development of women-owned businesses. They work to accomplish this by focusing on their CORE platform — Certification\, Opportunities\, Resources\, and Engagement. \nRegister in advance for this Meeting\nAfter registering\, you will receive a confirmation email containing information about joining the meeting.
URL:https://wbecnydmv.org/es/event/why-and-how-to-get-wbenc-certified-2/
CATEGORIES:WBEC Metro NY and Greater DMV Events
END:VEVENT
END:VCALENDAR